BEGIN:VCALENDAR
VERSION:2.0
PRODID:-//Bolivar Free Library - ECPv6.15.20//NONSGML v1.0//EN
CALSCALE:GREGORIAN
METHOD:PUBLISH
X-WR-CALNAME:Bolivar Free Library
X-ORIGINAL-URL:https://bolivarfreelibrary.org
X-WR-CALDESC:Events for Bolivar Free Library
REFRESH-INTERVAL;VALUE=DURATION:PT1H
X-Robots-Tag:noindex
X-PUBLISHED-TTL:PT1H
BEGIN:VTIMEZONE
TZID:America/New_York
BEGIN:DAYLIGHT
TZOFFSETFROM:-0500
TZOFFSETTO:-0400
TZNAME:EDT
DTSTART:20250309T070000
END:DAYLIGHT
BEGIN:STANDARD
TZOFFSETFROM:-0400
TZOFFSETTO:-0500
TZNAME:EST
DTSTART:20251102T060000
END:STANDARD
BEGIN:DAYLIGHT
TZOFFSETFROM:-0500
TZOFFSETTO:-0400
TZNAME:EDT
DTSTART:20260308T070000
END:DAYLIGHT
BEGIN:STANDARD
TZOFFSETFROM:-0400
TZOFFSETTO:-0500
TZNAME:EST
DTSTART:20261101T060000
END:STANDARD
BEGIN:DAYLIGHT
TZOFFSETFROM:-0500
TZOFFSETTO:-0400
TZNAME:EDT
DTSTART:20270314T070000
END:DAYLIGHT
BEGIN:STANDARD
TZOFFSETFROM:-0400
TZOFFSETTO:-0500
TZNAME:EST
DTSTART:20271107T060000
END:STANDARD
END:VTIMEZONE
BEGIN:VEVENT
DTSTART;VALUE=DATE:20260427
DTEND;VALUE=DATE:20260502
DTSTAMP:20260425T091328
CREATED:20260224T163037Z
LAST-MODIFIED:20260224T163211Z
UID:456-1777248000-1777679999@bolivarfreelibrary.org
SUMMARY:Return Book Box
DESCRIPTION:
URL:https://bolivarfreelibrary.org/calendar/return-book-box-7/
END:VEVENT
BEGIN:VEVENT
DTSTART;TZID=America/New_York:20260427T180000
DTEND;TZID=America/New_York:20260427T200000
DTSTAMP:20260425T091328
CREATED:20260414T163521Z
LAST-MODIFIED:20260422T225620Z
UID:639-1777312800-1777320000@bolivarfreelibrary.org
SUMMARY:Paint with Jesse Vaughn
DESCRIPTION:$10 Class fee. All supplies included. \nCall 928-2015 to register.
URL:https://bolivarfreelibrary.org/calendar/paint-with-jesse-vaughn/
END:VEVENT
BEGIN:VEVENT
DTSTART;TZID=America/New_York:20260428T100000
DTEND;TZID=America/New_York:20260428T130000
DTSTAMP:20260425T091328
CREATED:20260313T151240Z
LAST-MODIFIED:20260313T151240Z
UID:518-1777370400-1777381200@bolivarfreelibrary.org
SUMMARY:Community Room is open.
DESCRIPTION:
URL:https://bolivarfreelibrary.org/calendar/community-room-is-open-29/
END:VEVENT
END:VCALENDAR